BEGIN:VCALENDAR
VERSION:2.0
PRODID:-//Federación Española de Halterofilia - ECPv6.15.20//NONSGML v1.0//EN
CALSCALE:GREGORIAN
METHOD:PUBLISH
X-WR-CALNAME:Federación Española de Halterofilia
X-ORIGINAL-URL:https://www.fedehalter.org
X-WR-CALDESC:Eventos para Federación Española de Halterofilia
REFRESH-INTERVAL;VALUE=DURATION:PT1H
X-Robots-Tag:noindex
X-PUBLISHED-TTL:PT1H
BEGIN:VTIMEZONE
TZID:UTC
BEGIN:STANDARD
TZOFFSETFROM:+0000
TZOFFSETTO:+0000
TZNAME:UTC
DTSTART:20240101T000000
END:STANDARD
END:VTIMEZONE
BEGIN:VEVENT
DTSTART;VALUE=DATE:20251205
DTEND;VALUE=DATE:20251208
DTSTAMP:20260421T202028
CREATED:20251001T094450Z
LAST-MODIFIED:20251107T104258Z
UID:14124-1764892800-1765151999@www.fedehalter.org
SUMMARY:TORNEO GRINCH 2025
DESCRIPTION:TORNEO INTERNACIONAL GRINCH 2025 - información del grinch 2025 & international youth challenge.pdf\n									\n									\n										 » información del grinch 2025 & international youth challenge.pdf\n										\n										Opciones del archivo\n												\n			 Descargar\n		\n			 Descripción\n	 \n		\n			 Vista previa\n		\n				 Otras versiones\n				\n			\n			 Ir a la entrada\n		\n			 Compartir\n										  \n								\n						\n												\n							\n												\n							\n												\n							\n							01-10-2025 9:37\n								\n\n  \n 
URL:https://www.fedehalter.org/competicion/torneo-grinch-2025/
LOCATION:Alicante
CATEGORIES:Competición Nacional
ATTACH;FMTTYPE=image/png:https://www.fedehalter.org/wp-content/uploads/2025/10/torneo-grinch.png
END:VEVENT
END:VCALENDAR