BEGIN:VCALENDAR
VERSION:2.0
PRODID:-//Federación Española de Halterofilia - ECPv6.15.20//NONSGML v1.0//EN
CALSCALE:GREGORIAN
METHOD:PUBLISH
X-WR-CALNAME:Federación Española de Halterofilia
X-ORIGINAL-URL:https://www.fedehalter.org
X-WR-CALDESC:Eventos para Federación Española de Halterofilia
REFRESH-INTERVAL;VALUE=DURATION:PT1H
X-Robots-Tag:noindex
X-PUBLISHED-TTL:PT1H
BEGIN:VTIMEZONE
TZID:UTC
BEGIN:STANDARD
TZOFFSETFROM:+0000
TZOFFSETTO:+0000
TZNAME:UTC
DTSTART:20240101T000000
END:STANDARD
END:VTIMEZONE
BEGIN:VEVENT
DTSTART;VALUE=DATE:20251001
DTEND;VALUE=DATE:20251011
DTSTAMP:20260421T234125
CREATED:20241209T113106Z
LAST-MODIFIED:20241209T113106Z
UID:11307-1759276800-1760140799@www.fedehalter.org
SUMMARY:CTO. MUNDO ABSOLUTO 2025
DESCRIPTION:
URL:https://www.fedehalter.org/competicion/cto-mundo-absoluto-2025/
LOCATION:Forde\, Noruega
ORGANIZER;CN="IWF%3A International Weightlifting Federation":MAILTO:iwf@iwfnet.net
END:VEVENT
BEGIN:VEVENT
DTSTART;VALUE=DATE:20251004
DTEND;VALUE=DATE:20251006
DTSTAMP:20260421T234125
CREATED:20241209T113216Z
LAST-MODIFIED:20250926T103712Z
UID:11310-1759536000-1759708799@www.fedehalter.org
SUMMARY:XV CTO. ESPAÑA SUB15 2025
DESCRIPTION:LISTADOS Y HORARIOS DEFINITIVOS CTO ESPAÑA SUB15 2025 - Horarios y listados definitivos Cto. España sub15 (2025).docx.pdf\n									\n									\n										 » Horarios y listados definitivos Cto. España sub15 (2025).docx.pdf\n										\n										Opciones del archivo\n												\n			 Descargar\n		\n			 Descripción\n	 \n		\n			 Vista previa\n		\n				 Otras versiones\n				\n			\n			 Ir a la entrada\n		\n			 Compartir\n										  \n								\n						\n												\n							\n												\n							\n												\n							\n							26-09-2025 10:34\n								\n\n  \n  \n  \n  \n  \n 
URL:https://www.fedehalter.org/competicion/xv-cto-espana-sub15-2025/
LOCATION:Cullera\, Comunidad Valenciana\, España
ORGANIZER;CN="RFEH%3A Real Federaci%C3%B3n Espa%C3%B1ola de Halterofilia":MAILTO:competiciones@fedehalter.org
END:VEVENT
BEGIN:VEVENT
DTSTART;VALUE=DATE:20251019
DTEND;VALUE=DATE:20251020
DTSTAMP:20260421T234125
CREATED:20241209T113344Z
LAST-MODIFIED:20241209T113344Z
UID:11312-1760832000-1760918399@www.fedehalter.org
SUMMARY:IV JORNADA LIGA NACIONAL CLUBES / PLAYOFFS 2025
DESCRIPTION:
URL:https://www.fedehalter.org/competicion/iv-jornada-liga-nacional-clubes-playoffs-2025/
LOCATION:Federaciones\, Ámbito Autonómico\, España
ORGANIZER;CN="RFEH%3A Real Federaci%C3%B3n Espa%C3%B1ola de Halterofilia":MAILTO:competiciones@fedehalter.org
END:VEVENT
BEGIN:VEVENT
DTSTART;VALUE=DATE:20251023
DTEND;VALUE=DATE:20251027
DTSTAMP:20260421T234125
CREATED:20241209T113457Z
LAST-MODIFIED:20251021T105817Z
UID:11314-1761177600-1761523199@www.fedehalter.org
SUMMARY:COPA MEDITERRÁNEA MÁSTER / ABIERTO 2025
DESCRIPTION:
URL:https://www.fedehalter.org/competicion/copa-mediterranea-master-abierto-2025/
LOCATION:Alicante
ATTACH;FMTTYPE=image/png:https://www.fedehalter.org/wp-content/uploads/2024/12/Competiciones.png
END:VEVENT
BEGIN:VEVENT
DTSTART;VALUE=DATE:20251028
DTEND;VALUE=DATE:20251105
DTSTAMP:20260421T234125
CREATED:20241209T103103Z
LAST-MODIFIED:20251021T110117Z
UID:11304-1761609600-1762300799@www.fedehalter.org
SUMMARY:CTO. EUROPA JUNIOR Y SUB23  2025
DESCRIPTION:
URL:https://www.fedehalter.org/competicion/cto-europa-junior-y-sub23-2025/
LOCATION:Albania\, Albania
CATEGORIES:Competición Internacional
ATTACH;FMTTYPE=image/png:https://www.fedehalter.org/wp-content/uploads/2024/12/europeo.png
ORGANIZER;CN="EWF%3A European Weightlifting Federation":MAILTO:secretariat@ewfed.sport
END:VEVENT
END:VCALENDAR