BEGIN:VCALENDAR
VERSION:2.0
PRODID:-//Federación Española de Halterofilia - ECPv6.15.20//NONSGML v1.0//EN
CALSCALE:GREGORIAN
METHOD:PUBLISH
X-WR-CALNAME:Federación Española de Halterofilia
X-ORIGINAL-URL:https://www.fedehalter.org
X-WR-CALDESC:Eventos para Federación Española de Halterofilia
REFRESH-INTERVAL;VALUE=DURATION:PT1H
X-Robots-Tag:noindex
X-PUBLISHED-TTL:PT1H
BEGIN:VTIMEZONE
TZID:UTC
BEGIN:STANDARD
TZOFFSETFROM:+0000
TZOFFSETTO:+0000
TZNAME:UTC
DTSTART:20250101T000000
END:STANDARD
END:VTIMEZONE
BEGIN:VEVENT
DTSTART;VALUE=DATE:20260802
DTEND;VALUE=DATE:20260810
DTSTAMP:20260422T110318
CREATED:20251203T095821Z
LAST-MODIFIED:20251203T095821Z
UID:14517-1785628800-1786319999@www.fedehalter.org
SUMMARY:CTO. EUROPA SUB15 Y SUB17 2026
DESCRIPTION:
URL:https://www.fedehalter.org/competicion/cto-europa-sub15-y-sub17-2026/
LOCATION:ELBASAN\, Albania
ORGANIZER;CN="EWF%3A European Weightlifting Federation":MAILTO:secretariat@ewfed.sport
END:VEVENT
END:VCALENDAR