BEGIN:VCALENDAR
VERSION:2.0
PRODID:-//Federación Española de Halterofilia - ECPv6.15.20//NONSGML v1.0//EN
CALSCALE:GREGORIAN
METHOD:PUBLISH
X-WR-CALNAME:Federación Española de Halterofilia
X-ORIGINAL-URL:https://www.fedehalter.org
X-WR-CALDESC:Eventos para Federación Española de Halterofilia
REFRESH-INTERVAL;VALUE=DURATION:PT1H
X-Robots-Tag:noindex
X-PUBLISHED-TTL:PT1H
BEGIN:VTIMEZONE
TZID:UTC
BEGIN:STANDARD
TZOFFSETFROM:+0000
TZOFFSETTO:+0000
TZNAME:UTC
DTSTART:20250101T000000
END:STANDARD
END:VTIMEZONE
BEGIN:VEVENT
DTSTART;VALUE=DATE:20260711
DTEND;VALUE=DATE:20260713
DTSTAMP:20260422T063720
CREATED:20251203T100911Z
LAST-MODIFIED:20251203T100911Z
UID:14535-1783728000-1783900799@www.fedehalter.org
SUMMARY:LV CTO. ESPAÑA JUNIOR 2026
DESCRIPTION:
URL:https://www.fedehalter.org/competicion/lv-cto-espana-junior-2026/
LOCATION:GALICIA\, Spain
ORGANIZER;CN="RFEH%3A Real Federaci%C3%B3n Espa%C3%B1ola de Halterofilia":MAILTO:competiciones@fedehalter.org
END:VEVENT
END:VCALENDAR