BEGIN:VCALENDAR
VERSION:2.0
PRODID:-//Federación Española de Halterofilia - ECPv6.15.20//NONSGML v1.0//EN
CALSCALE:GREGORIAN
METHOD:PUBLISH
X-WR-CALNAME:Federación Española de Halterofilia
X-ORIGINAL-URL:https://www.fedehalter.org
X-WR-CALDESC:Eventos para Federación Española de Halterofilia
REFRESH-INTERVAL;VALUE=DURATION:PT1H
X-Robots-Tag:noindex
X-PUBLISHED-TTL:PT1H
BEGIN:VTIMEZONE
TZID:UTC
BEGIN:STANDARD
TZOFFSETFROM:+0000
TZOFFSETTO:+0000
TZNAME:UTC
DTSTART:20250101T000000
END:STANDARD
END:VTIMEZONE
BEGIN:VEVENT
DTSTART;VALUE=DATE:20260622
DTEND;VALUE=DATE:20260629
DTSTAMP:20260421T215933
CREATED:20251203T095426Z
LAST-MODIFIED:20251203T095426Z
UID:14512-1782086400-1782691199@www.fedehalter.org
SUMMARY:CTO. DEL MUNDO SUB17 2026
DESCRIPTION:
URL:https://www.fedehalter.org/competicion/cto-del-mundo-sub17-2026/
LOCATION:BOGOTÁ\, Colombia
ORGANIZER;CN="IWF%3A International Weightlifting Federation":MAILTO:iwf@iwfnet.net
END:VEVENT
END:VCALENDAR