BEGIN:VCALENDAR
VERSION:2.0
PRODID:-//Federación Española de Halterofilia - ECPv6.15.20//NONSGML v1.0//EN
CALSCALE:GREGORIAN
METHOD:PUBLISH
X-WR-CALNAME:Federación Española de Halterofilia
X-ORIGINAL-URL:https://www.fedehalter.org
X-WR-CALDESC:Eventos para Federación Española de Halterofilia
REFRESH-INTERVAL;VALUE=DURATION:PT1H
X-Robots-Tag:noindex
X-PUBLISHED-TTL:PT1H
BEGIN:VTIMEZONE
TZID:UTC
BEGIN:STANDARD
TZOFFSETFROM:+0000
TZOFFSETTO:+0000
TZNAME:UTC
DTSTART:20250101T000000
END:STANDARD
END:VTIMEZONE
BEGIN:VEVENT
DTSTART;VALUE=DATE:20260222
DTEND;VALUE=DATE:20260223
DTSTAMP:20260421T184620
CREATED:20251202T115249Z
LAST-MODIFIED:20260120T121127Z
UID:14491-1771718400-1771804799@www.fedehalter.org
SUMMARY:I JORNADA DE LIGA CLUBES 2026
DESCRIPTION:
URL:https://www.fedehalter.org/competicion/i-jornada-de-liga-clubes-2026/
LOCATION:Federaciones\, Ámbito Autonómico\, España
CATEGORIES:Competición Nacional
ATTACH;FMTTYPE=image/png:https://www.fedehalter.org/wp-content/uploads/2025/12/Ligas.png
END:VEVENT
END:VCALENDAR