BEGIN:VCALENDAR
VERSION:2.0
PRODID:-//Federación Española de Halterofilia - ECPv6.15.20//NONSGML v1.0//EN
CALSCALE:GREGORIAN
METHOD:PUBLISH
X-WR-CALNAME:Federación Española de Halterofilia
X-ORIGINAL-URL:https://www.fedehalter.org
X-WR-CALDESC:Eventos para Federación Española de Halterofilia
REFRESH-INTERVAL;VALUE=DURATION:PT1H
X-Robots-Tag:noindex
X-PUBLISHED-TTL:PT1H
BEGIN:VTIMEZONE
TZID:UTC
BEGIN:STANDARD
TZOFFSETFROM:+0000
TZOFFSETTO:+0000
TZNAME:UTC
DTSTART:20250101T000000
END:STANDARD
END:VTIMEZONE
BEGIN:VEVENT
DTSTART;VALUE=DATE:20260208
DTEND;VALUE=DATE:20260209
DTSTAMP:20260421T184631
CREATED:20251202T115018Z
LAST-MODIFIED:20260202T104024Z
UID:14488-1770508800-1770595199@www.fedehalter.org
SUMMARY:JORNADA NACIONAL DE TÉCNICA 2026
DESCRIPTION:2026 LISTADOS Y HORARIOS DEFINITIVOS JORNADA NACIONAL DE TÉCNICA - 2026 Horarios y listados DEFINITIVOS Jornada Nacional de Técnica.pdf\n									\n									\n										 » 2026 Horarios y listados DEFINITIVOS Jornada Nacional de Técnica.pdf\n										\n										Opciones del archivo\n												\n			 Descargar\n		\n			 Descripción\n	 \n		\n			 Vista previa\n		\n				 Otras versiones\n				\n			\n			 Ir a la entrada\n		\n			 Compartir\n										  \n								\n						\n												\n							\n												\n							\n												\n							\n							02-02-2026 10:34\n								\n\n  \n  \n  \n 
URL:https://www.fedehalter.org/competicion/jornada-nacional-de-tecnica-2026/
LOCATION:Madrid\, Madrid\, Madrid\, España
CATEGORIES:Competición Nacional
ATTACH;FMTTYPE=image/png:https://www.fedehalter.org/wp-content/uploads/2026/01/Madrid-jornada-tecnica.png
ORGANIZER;CN="RFEH%3A Real Federaci%C3%B3n Espa%C3%B1ola de Halterofilia":MAILTO:competiciones@fedehalter.org
END:VEVENT
END:VCALENDAR