BEGIN:VCALENDAR
VERSION:2.0
PRODID:-//Federación Española de Halterofilia - ECPv6.15.20//NONSGML v1.0//EN
CALSCALE:GREGORIAN
METHOD:PUBLISH
X-WR-CALNAME:Federación Española de Halterofilia
X-ORIGINAL-URL:https://www.fedehalter.org
X-WR-CALDESC:Eventos para Federación Española de Halterofilia
REFRESH-INTERVAL;VALUE=DURATION:PT1H
X-Robots-Tag:noindex
X-PUBLISHED-TTL:PT1H
BEGIN:VTIMEZONE
TZID:UTC
BEGIN:STANDARD
TZOFFSETFROM:+0000
TZOFFSETTO:+0000
TZNAME:UTC
DTSTART:20240101T000000
END:STANDARD
END:VTIMEZONE
BEGIN:VEVENT
DTSTART;VALUE=DATE:20251129
DTEND;VALUE=DATE:20251130
DTSTAMP:20260421T234212
CREATED:20241209T113741Z
LAST-MODIFIED:20251125T125746Z
UID:11318-1764374400-1764460799@www.fedehalter.org
SUMMARY:COPA S.M. EL REY Y S.M. LA REINA 2025
DESCRIPTION:2025 LISTADOS Y HORARIOS DEFINITIVOS COPA DEL REY Y COPA DE LA REINA - 2025 Horarios y listados DEFINITIVOS Copa del Rey y Copa de la Reina.pdf\n									\n									\n										 » 2025 Horarios y listados DEFINITIVOS Copa del Rey y Copa de la Reina.pdf\n										\n										Opciones del archivo\n												\n			 Descargar\n		\n			 Descripción\n	 \n		\n			 Vista previa\n		\n				 Otras versiones\n				\n			\n			 Ir a la entrada\n		\n			 Compartir\n										  \n								\n						\n												\n							\n												\n							\n												\n							\n							25-11-2025 12:55\n								\n\n  \n  \n  \n  \n  \n  \n  \n 
URL:https://www.fedehalter.org/competicion/copa-s-m-el-rey-y-s-m-la-reina-2025/
LOCATION:PAMPLONA\, NAVARRA\, España
CATEGORIES:Competición Nacional
ATTACH;FMTTYPE=image/png:https://www.fedehalter.org/wp-content/uploads/2024/12/Copa-del-Rey-y-la-Reina-1.png
ORGANIZER;CN="RFEH%3A Real Federaci%C3%B3n Espa%C3%B1ola de Halterofilia":MAILTO:competiciones@fedehalter.org
END:VEVENT
END:VCALENDAR