BEGIN:VCALENDAR
VERSION:2.0
PRODID:-//Federación Española de Halterofilia - ECPv6.15.20//NONSGML v1.0//EN
CALSCALE:GREGORIAN
METHOD:PUBLISH
X-WR-CALNAME:Federación Española de Halterofilia
X-ORIGINAL-URL:https://www.fedehalter.org
X-WR-CALDESC:Eventos para Federación Española de Halterofilia
REFRESH-INTERVAL;VALUE=DURATION:PT1H
X-Robots-Tag:noindex
X-PUBLISHED-TTL:PT1H
BEGIN:VTIMEZONE
TZID:UTC
BEGIN:STANDARD
TZOFFSETFROM:+0000
TZOFFSETTO:+0000
TZNAME:UTC
DTSTART:20240101T000000
END:STANDARD
END:VTIMEZONE
BEGIN:VEVENT
DTSTART;VALUE=DATE:20251023
DTEND;VALUE=DATE:20251027
DTSTAMP:20260422T012237
CREATED:20241209T113457Z
LAST-MODIFIED:20251021T105817Z
UID:11314-1761177600-1761523199@www.fedehalter.org
SUMMARY:COPA MEDITERRÁNEA MÁSTER / ABIERTO 2025
DESCRIPTION:
URL:https://www.fedehalter.org/competicion/copa-mediterranea-master-abierto-2025/
LOCATION:Alicante
ATTACH;FMTTYPE=image/png:https://www.fedehalter.org/wp-content/uploads/2024/12/Competiciones.png
END:VEVENT
END:VCALENDAR