BEGIN:VCALENDAR
VERSION:2.0
PRODID:-//Federación Española de Halterofilia - ECPv6.15.20//NONSGML v1.0//EN
CALSCALE:GREGORIAN
METHOD:PUBLISH
X-WR-CALNAME:Federación Española de Halterofilia
X-ORIGINAL-URL:https://www.fedehalter.org
X-WR-CALDESC:Eventos para Federación Española de Halterofilia
REFRESH-INTERVAL;VALUE=DURATION:PT1H
X-Robots-Tag:noindex
X-PUBLISHED-TTL:PT1H
BEGIN:VTIMEZONE
TZID:UTC
BEGIN:STANDARD
TZOFFSETFROM:+0000
TZOFFSETTO:+0000
TZNAME:UTC
DTSTART:20240101T000000
END:STANDARD
END:VTIMEZONE
BEGIN:VEVENT
DTSTART;VALUE=DATE:20251019
DTEND;VALUE=DATE:20251020
DTSTAMP:20260422T012126
CREATED:20241209T113344Z
LAST-MODIFIED:20241209T113344Z
UID:11312-1760832000-1760918399@www.fedehalter.org
SUMMARY:IV JORNADA LIGA NACIONAL CLUBES / PLAYOFFS 2025
DESCRIPTION:
URL:https://www.fedehalter.org/competicion/iv-jornada-liga-nacional-clubes-playoffs-2025/
LOCATION:Federaciones\, Ámbito Autonómico\, España
ORGANIZER;CN="RFEH%3A Real Federaci%C3%B3n Espa%C3%B1ola de Halterofilia":MAILTO:competiciones@fedehalter.org
END:VEVENT
END:VCALENDAR