BEGIN:VCALENDAR
VERSION:2.0
PRODID:-//Federación Española de Halterofilia - ECPv6.15.20//NONSGML v1.0//EN
CALSCALE:GREGORIAN
METHOD:PUBLISH
X-WR-CALNAME:Federación Española de Halterofilia
X-ORIGINAL-URL:https://www.fedehalter.org
X-WR-CALDESC:Eventos para Federación Española de Halterofilia
REFRESH-INTERVAL;VALUE=DURATION:PT1H
X-Robots-Tag:noindex
X-PUBLISHED-TTL:PT1H
BEGIN:VTIMEZONE
TZID:UTC
BEGIN:STANDARD
TZOFFSETFROM:+0000
TZOFFSETTO:+0000
TZNAME:UTC
DTSTART:20240101T000000
END:STANDARD
END:VTIMEZONE
BEGIN:VEVENT
DTSTART;VALUE=DATE:20250629
DTEND;VALUE=DATE:20250630
DTSTAMP:20260422T080646
CREATED:20241209T101941Z
LAST-MODIFIED:20241209T101941Z
UID:11294-1751155200-1751241599@www.fedehalter.org
SUMMARY:III JORNADA LIGA NACIONAL CLUBES 2025
DESCRIPTION:
URL:https://www.fedehalter.org/competicion/iii-jornada-liga-nacional-clubes-2025/
LOCATION:Federaciones\, Ámbito Autonómico\, España
END:VEVENT
END:VCALENDAR